BEGIN:VCALENDAR
PRODID:-//eluceo/ical//2.0/EN
VERSION:2.0
CALSCALE:GREGORIAN
BEGIN:VEVENT
UID:1641e80b9843ab34f727bad2d00916fc
DTSTAMP:20260423T055035Z
SUMMARY:Alpert New Leaders Forum
DESCRIPTION:Jewish Long Beach\nCalendar\nhttps://jewishlongbeach.org/calend
 ar/alpert-new-leaders-forum-seven\n\nAlpert New Leaders Forum
DTSTART;TZID=America/Los_Angeles:20180503T180000
DTEND;TZID=America/Los_Angeles:20180503T200000
END:VEVENT
END:VCALENDAR
