BEGIN:VCALENDAR
PRODID:-//eluceo/ical//2.0/EN
VERSION:2.0
CALSCALE:GREGORIAN
BEGIN:VEVENT
UID:4152f9e6352f656c352cf49f9da4e0fe
DTSTAMP:20260419T233709Z
SUMMARY:Alpert New Leaders Forum
DESCRIPTION:Jewish Long Beach\nCalendar\nhttps://jewishlongbeach.org/calend
 ar/alpert-new-leaders-forum-six\n\nAlpert New Leaders Forum
DTSTART;TZID=America/Los_Angeles:20180412T180000
DTEND;TZID=America/Los_Angeles:20180412T200000
END:VEVENT
END:VCALENDAR
