BEGIN:VCALENDAR
PRODID:-//eluceo/ical//2.0/EN
VERSION:2.0
CALSCALE:GREGORIAN
BEGIN:VEVENT
UID:43797fd02f8e5c4d28201dcbbe60faa0
DTSTAMP:20260424T055721Z
SUMMARY:Alpert New Leaders Forum
DESCRIPTION:Jewish Long Beach\nCalendar\nhttps://jewishlongbeach.org/calend
 ar/alpert-new-leaders-forum10\n\nAlpert New Leaders Forum
DTSTART;TZID=America/Los_Angeles:20160512T180000
DTEND;TZID=America/Los_Angeles:20160512T200000
END:VEVENT
END:VCALENDAR
