BEGIN:VCALENDAR
PRODID:-//eluceo/ical//2.0/EN
VERSION:2.0
CALSCALE:GREGORIAN
BEGIN:VEVENT
UID:1bc0de375ad4e9d538736f371feba011
DTSTAMP:20260420T155145Z
SUMMARY:Alpert New Leaders Forum
DESCRIPTION:Jewish Long Beach\nCalendar\nhttps://jewishlongbeach.org/calend
 ar/alpert-new-leaders-forum20173\n\nAlpert New Leaders Forum
DTSTART;TZID=America/Los_Angeles:20170309T180000
DTEND;TZID=America/Los_Angeles:20170309T210000
END:VEVENT
END:VCALENDAR
