BEGIN:VCALENDAR
PRODID:-//eluceo/ical//2.0/EN
VERSION:2.0
CALSCALE:GREGORIAN
BEGIN:VEVENT
UID:024060d2022c58e357ba14e6d1443e48
DTSTAMP:20260425T234131Z
SUMMARY:Alpert New Leaders Forum
DESCRIPTION:Jewish Long Beach\nCalendar\nhttps://jewishlongbeach.org/calend
 ar/alpert-new-leaders-forum20174\n\nAlpert New Leaders Forum
DTSTART;TZID=America/Los_Angeles:20170420T180000
DTEND;TZID=America/Los_Angeles:20170420T210000
END:VEVENT
END:VCALENDAR
