BEGIN:VCALENDAR
PRODID:-//eluceo/ical//2.0/EN
VERSION:2.0
CALSCALE:GREGORIAN
BEGIN:VEVENT
UID:880c07123848ce93e61b6e92c5fa561e
DTSTAMP:20260424T042130Z
SUMMARY:Alpert New Leaders Forum
DESCRIPTION:Jewish Long Beach\nCalendar\nhttps://jewishlongbeach.org/calend
 ar/alpert-new-leaders-forum5\n\nAlpert New Leaders Forum
DTSTART;TZID=America/Los_Angeles:20151203T180000
DTEND;TZID=America/Los_Angeles:20151203T200000
END:VEVENT
END:VCALENDAR
