BEGIN:VCALENDAR
PRODID:-//eluceo/ical//2.0/EN
VERSION:2.0
CALSCALE:GREGORIAN
BEGIN:VEVENT
UID:4601e885af8dd77b863a00591d9ce7e4
DTSTAMP:20260421T172853Z
SUMMARY:Annual Meeting
DESCRIPTION:Jewish Long Beach\nCalendar\nhttps://jewishlongbeach.org/calend
 ar/annual-meeting-1667948735\n\nJewish Long Beach and the Alpert JCC are p
 leased to announce our 2022 Annual Meeting: Thursday\, December 1\, 2022\,
  7:00 PM in the Lipeles Auditorium at the Alpert JCC on the Weinberg Jewis
 h Long Beach Campus.
DTSTART;TZID=America/Los_Angeles:20221201T190000
DTEND;TZID=America/Los_Angeles:20221201T210000
END:VEVENT
END:VCALENDAR
