BEGIN:VCALENDAR
PRODID:-//eluceo/ical//2.0/EN
VERSION:2.0
CALSCALE:GREGORIAN
BEGIN:VEVENT
UID:ae9c91554cf767351bd8fcccb137b38f
DTSTAMP:20260419T120437Z
SUMMARY:BeAware Training
DESCRIPTION:Jewish Long Beach\nCalendar\nhttps://jewishlongbeach.org/calend
 ar/beaware-aug4\n\nJoin our Community Security Director\, Meredith Burke\,
  for a training program designed to prepare you for recognizing potential 
 threats.\n\n \n\nBeAware\, SCN’s Introduction to Situational Awareness 
 Course\, will teach you how to recognize suspicious or potentially dangero
 us behavior and threats\, and what to do – whether you are in a synagogu
 e\, at school\, or going about your day. Designed for every member of the 
 community\, no background in security is required. The course will cover t
 he bas...
DTSTART;TZID=America/Los_Angeles:20230804T130000
DTEND;TZID=America/Los_Angeles:20230804T143000
END:VEVENT
END:VCALENDAR
