BEGIN:VCALENDAR
PRODID:-//eluceo/ical//2.0/EN
VERSION:2.0
CALSCALE:GREGORIAN
BEGIN:VEVENT
UID:ba4c541470b84571f4aeed36d799669d
DTSTAMP:20260419T154056Z
SUMMARY:BeAware Training
DESCRIPTION:Jewish Long Beach\nCalendar\nhttps://jewishlongbeach.org/calend
 ar/beaware-mar7\n\nClick here to join this meeting on Zoom.\n\nJoin our 
 Community Security Director\, Meredith Burke\, for a training program desi
 gned to prepare you for recognizing potential threats.\n\n \n\nBeAware\, 
 SCN’s Introduction to Situational Awareness Course\, will teach you how 
 to recognize suspicious or potentially dangerous behavior and threats\, a
 nd what to do – whether you are in a synagogue\, at school\, or going ab
 out your day. Designed for every member of the community\, no background 
 in sec...
DTSTART;TZID=America/Los_Angeles:20250307T100000
DTEND;TZID=America/Los_Angeles:20250307T113000
END:VEVENT
END:VCALENDAR
