BEGIN:VCALENDAR
PRODID:-//eluceo/ical//2.0/EN
VERSION:2.0
CALSCALE:GREGORIAN
BEGIN:VEVENT
UID:bcf656adb7a76067c59392167b78e5eb
DTSTAMP:20260420T005030Z
SUMMARY:BeAware Training
DESCRIPTION:Jewish Long Beach\nCalendar\nhttps://jewishlongbeach.org/calend
 ar/beaware-nov6\n\nJoin our Community Security Director\, Meredith Burke\,
  for a training program designed to prepare you for recognizing potential 
 threats.\n\n \n\nBeAware\, SCN’s Introduction to Situational Awareness 
 Course\, will teach you how to recognize suspicious or potentially dangero
 us behavior and threats\, and what to do – whether you are in a synagog
 ue\, at school\, or going about your day. Designed for every member of the
  community\, no background in security is required. The course will cover
  the b...
DTSTART;TZID=America/Los_Angeles:20231106T100000
DTEND;TZID=America/Los_Angeles:20231106T113000
END:VEVENT
END:VCALENDAR
