BEGIN:VCALENDAR
PRODID:-//eluceo/ical//2.0/EN
VERSION:2.0
CALSCALE:GREGORIAN
BEGIN:VEVENT
UID:7e4f55abf06f8f7ad7cf8728d729ebc8
DTSTAMP:20260424T031913Z
SUMMARY:Beginner Mah Jongg
DESCRIPTION:Jewish Long Beach\nCalendar\nhttps://jewishlongbeach.org/calend
 ar/beginner-mah-jongg-sept25\n\nFridays | September 12\, 19\, 26 | 10 AM 
 - 12:30 PM\n\nLearn American Mah Jongg with Mahj Club Beginners Series! In
 fused with over 30 years of playing experience\, delivered through our Aut
 hentically Mah Jongg service\, and deeply steeped in the rich traditions o
 f the game\, our comprehensive beginner course will guide you through ever
 ything you need to know about American Mah Jongg\, following official Nati
 onal Mah Jongg League (NMJL) standards. Throughout the series\, you’ll m
 aster tile identif...
DTSTART;TZID=America/Los_Angeles:20250912T100000
DTEND;TZID=America/Los_Angeles:20250912T123000
END:VEVENT
END:VCALENDAR
