BEGIN:VCALENDAR
PRODID:-//eluceo/ical//2.0/EN
VERSION:2.0
CALSCALE:GREGORIAN
BEGIN:VEVENT
UID:32cdeb6afb3ac97d5ee8ed83a1888f2e
DTSTAMP:20260422T105408Z
SUMMARY:Beginner Pickleball Clinics
DESCRIPTION:Jewish Long Beach\nCalendar\nhttps://jewishlongbeach.org/calend
 ar/beginner-pickleball-clinics\n\nSundays | June 22\, August 17\, October
  19\, December 7 | 12:30 PM\, 2 PM\n\nWant to get in on the pickleball cra
 ze? Learn to play with certified coach David Andersen! These every-other-m
 onth clinics are great for beginners. Learn the rules of pickleball and th
 e fundamentals of scoring\, serving\, returning\, forehand\, backhand\, an
 d footwork. Plus learn the appropriate grip\, court etiquette\, and court 
 safety. Get in on the pickleball craze!\n\nClass Fee: $50 | AJCC Members p
 ay $40\n\n \n\nWhat is ...
DTSTART;TZID=America/Los_Angeles:20250622T123000
DTEND;TZID=America/Los_Angeles:20250622T153000
END:VEVENT
END:VCALENDAR
