BEGIN:VCALENDAR
PRODID:-//eluceo/ical//2.0/EN
VERSION:2.0
CALSCALE:GREGORIAN
BEGIN:VEVENT
UID:f32b937a84f45cd33499a87d041bc1f5
DTSTAMP:20260421T142721Z
SUMMARY:Beth David Young Professionals Bonfire & Potluck
DESCRIPTION:Jewish Long Beach\nCalendar\nhttps://jewishlongbeach.org/calend
 ar/beth-david-young-professionals-bonfire--potluck-1721689466\n\nJoin Beth
  David Young Professionals (20's-30's) for a summer bonfire and potluck. T
 he event will happen at Beth David (6100 Hefley St\, Westminster) and is F
 REE to attend. Please RSVP via this google form (https://forms.gle/S4Kb49a
 qh5G9pxeQ8) and indicate which item you'll be bringing to the potluck. We 
 look forward to seeing you!  Please email youngprofessionals@templebethdav
 id.org with any questions.
DTSTART;TZID=America/Los_Angeles:20240727T193000
DTEND;TZID=America/Los_Angeles:20240727T230000
END:VEVENT
END:VCALENDAR
