BEGIN:VCALENDAR
PRODID:-//eluceo/ical//2.0/EN
VERSION:2.0
CALSCALE:GREGORIAN
BEGIN:VEVENT
UID:54e8fa76ac905784781e880ca96c53b2
DTSTAMP:20260422T183228Z
SUMMARY:Campus Operations Committee
DESCRIPTION:Jewish Long Beach\nCalendar\nhttps://jewishlongbeach.org/calend
 ar/campus-operations-committee-23\n\nCampus Operations Committee
DTSTART;TZID=America/Los_Angeles:20181003T080000
DTEND;TZID=America/Los_Angeles:20181003T100000
END:VEVENT
END:VCALENDAR
