BEGIN:VCALENDAR
PRODID:-//eluceo/ical//2.0/EN
VERSION:2.0
CALSCALE:GREGORIAN
BEGIN:VEVENT
UID:761e7aea71a70d7f303c5d263192023e
DTSTAMP:20260424T135437Z
SUMMARY:Campus Operations Committee
DESCRIPTION:Jewish Long Beach\nCalendar\nhttps://jewishlongbeach.org/calend
 ar/campus-operations-committee-24\n\nCampus Operations Committee
DTSTART;TZID=America/Los_Angeles:20181031T080000
DTEND;TZID=America/Los_Angeles:20181031T093000
END:VEVENT
END:VCALENDAR
