BEGIN:VCALENDAR
PRODID:-//eluceo/ical//2.0/EN
VERSION:2.0
CALSCALE:GREGORIAN
BEGIN:VEVENT
UID:2f5999704351be896fd01ea1de0cac19
DTSTAMP:20260422T103602Z
SUMMARY:Campus Operations Committee
DESCRIPTION:Jewish Long Beach\nCalendar\nhttps://jewishlongbeach.org/calend
 ar/campus-operations-committee-27\n\nCampus Operations Committee
DTSTART;TZID=America/Los_Angeles:20190130T080000
DTEND;TZID=America/Los_Angeles:20190130T093000
END:VEVENT
END:VCALENDAR
