BEGIN:VCALENDAR
PRODID:-//eluceo/ical//2.0/EN
VERSION:2.0
CALSCALE:GREGORIAN
BEGIN:VEVENT
UID:ad2dac33b81a1ddbd039ffbb1263593e
DTSTAMP:20260419T175128Z
SUMMARY:Campus Operations Committee
DESCRIPTION:Jewish Long Beach\nCalendar\nhttps://jewishlongbeach.org/calend
 ar/campus-operations-committee-29\n\nCampus Operations Committee
DTSTART;TZID=America/Los_Angeles:20190327T080000
DTEND;TZID=America/Los_Angeles:20190327T093000
END:VEVENT
END:VCALENDAR
