BEGIN:VCALENDAR
PRODID:-//eluceo/ical//2.0/EN
VERSION:2.0
CALSCALE:GREGORIAN
BEGIN:VEVENT
UID:85c810866e361133d2776fa144d027ea
DTSTAMP:20260424T211146Z
SUMMARY:Campus Operations Committee
DESCRIPTION:Jewish Long Beach\nCalendar\nhttps://jewishlongbeach.org/calend
 ar/campus-operations-committee-30\n\nCampus Operations Committee
DTSTART;TZID=America/Los_Angeles:20190417T080000
DTEND;TZID=America/Los_Angeles:20190417T093000
END:VEVENT
END:VCALENDAR
