BEGIN:VCALENDAR
PRODID:-//eluceo/ical//2.0/EN
VERSION:2.0
CALSCALE:GREGORIAN
BEGIN:VEVENT
UID:50a6957d2c77cb101ea27e0484a30b97
DTSTAMP:20260424T045618Z
SUMMARY:Campus Operations
DESCRIPTION:Jewish Long Beach\nCalendar\nhttps://jewishlongbeach.org/calend
 ar/campus-operations4\n\nCampus Operations
DTSTART;TZID=America/Los_Angeles:20160831T080000
DTEND;TZID=America/Los_Angeles:20160831T100000
END:VEVENT
END:VCALENDAR
