BEGIN:VCALENDAR
PRODID:-//eluceo/ical//2.0/EN
VERSION:2.0
CALSCALE:GREGORIAN
BEGIN:VEVENT
UID:d9953d59c8bd0ff047f680a8bcba8619
DTSTAMP:20260423T004504Z
SUMMARY:CCEJ Gene Lentzner Human Relations Award Celebration
DESCRIPTION:Jewish Long Beach\nCalendar\nhttps://jewishlongbeach.org/calend
 ar/ccej-gene-lentzner-human-relations-award-celebration\n\nHonorees:\n\nAr
 nel Calvario\, Occupational Therapist\, LBUSD\, Lian Cheun\, Executive Dir
 ector\, Khmer Girls in Action\n\nAnitra Dempsey\, Executive Director\, Cit
 izen Police Complaint Commission\, City of Long Beach\n\nTicket price $75 
 per person\, space is limited\, please make reservation by October 15\, 20
 14\n\n5:30 pm Cocktails and heavy hors d'ouvres
DTSTART;TZID=America/Los_Angeles:20141023T183000
DTEND;TZID=America/Los_Angeles:20141023T210000
END:VEVENT
END:VCALENDAR
