BEGIN:VCALENDAR
PRODID:-//eluceo/ical//2.0/EN
VERSION:2.0
CALSCALE:GREGORIAN
BEGIN:VEVENT
UID:3a986d3aafe796eca8da282544001035
DTSTAMP:20260422T122706Z
SUMMARY:Chanukah Celebration and Shabbat Dinner
DESCRIPTION:Jewish Long Beach\nCalendar\nhttps://jewishlongbeach.org/calend
 ar/chanukah-celebration-and-shabbat-dinner-1496951252\n\nJoin us for a com
 munity Chanukah celebration and Shabbat dinner.
DTSTART;TZID=America/Los_Angeles:20171215T000000
DTEND;TZID=America/Los_Angeles:20171215T000000
END:VEVENT
END:VCALENDAR
