BEGIN:VCALENDAR
PRODID:-//eluceo/ical//2.0/EN
VERSION:2.0
CALSCALE:GREGORIAN
BEGIN:VEVENT
UID:56de4b6c87276d5b2a238000a3e466c5
DTSTAMP:20260424T015341Z
SUMMARY:Chanukah Celebration with Shul by the Shore
DESCRIPTION:Jewish Long Beach\nCalendar\nhttps://jewishlongbeach.org/calend
 ar/chanukah-celebration-with-shul-by-the-shore-1667948600\n\nCelebrate the
  first night of Chanukah with Shul by the Shore as we light the giant meno
 rah! Enjoy beautiful views\, music\, dancing\, games\, and more! Free and 
 open to all.
DTSTART;TZID=America/Los_Angeles:20221218T160000
DTEND;TZID=America/Los_Angeles:20221218T180000
END:VEVENT
END:VCALENDAR
