BEGIN:VCALENDAR
PRODID:-//eluceo/ical//2.0/EN
VERSION:2.0
CALSCALE:GREGORIAN
BEGIN:VEVENT
UID:2759002cfe31f3486b5366c25eb30f42
DTSTAMP:20260424T234649Z
SUMMARY:Chanukah Senior Outreach
DESCRIPTION:Jewish Long Beach\nCalendar\nhttps://jewishlongbeach.org/calend
 ar/chanukah-senior-outreach\n\nWednesday | December 10 | 10 AM\n\nHelp pa
 ck and deliver Chanukah goodies for seniors in our community!\n\nIntereste
 d in getting involved? Contact Dana Schneider-Chanzit at dschneider@alpert
 jcc.org\n\n \n\nWe are also accepting monetary donations to support the c
 ontinuation of our outreach projects. If you are interested in supporting 
 senior outreach\, please contact Susan Paletz at spaletz@alpertjcc.org
DTSTART;TZID=America/Los_Angeles:20251210T100000
DTEND;TZID=America/Los_Angeles:20251210T113000
END:VEVENT
END:VCALENDAR
