BEGIN:VCALENDAR
PRODID:-//eluceo/ical//2.0/EN
VERSION:2.0
CALSCALE:GREGORIAN
BEGIN:VEVENT
UID:8ff2fd307cf6bc29f9c9b426bd5204cd
DTSTAMP:20260422T042142Z
SUMMARY:Combined Executive Council
DESCRIPTION:Jewish Long Beach\nCalendar\nhttps://jewishlongbeach.org/calend
 ar/combined-executive-council-2\n\nJewish Federation/Jewish Community Foun
 dation Combined Executive Council
DTSTART;TZID=America/Los_Angeles:20180917T190000
DTEND;TZID=America/Los_Angeles:20180917T210000
END:VEVENT
END:VCALENDAR
