BEGIN:VCALENDAR
PRODID:-//eluceo/ical//2.0/EN
VERSION:2.0
CALSCALE:GREGORIAN
BEGIN:VEVENT
UID:daeaa130878cc1caf06611aa1fbbd37a
DTSTAMP:20260424T175331Z
SUMMARY:Combined Executive Council
DESCRIPTION:Jewish Long Beach\nCalendar\nhttps://jewishlongbeach.org/calend
 ar/combined-executive-council-5\n\nJewish Federation/Jewish Community Foun
 dation Combined Executive Council
DTSTART;TZID=America/Los_Angeles:20190218T190000
DTEND;TZID=America/Los_Angeles:20190218T210000
END:VEVENT
END:VCALENDAR
