BEGIN:VCALENDAR
PRODID:-//eluceo/ical//2.0/EN
VERSION:2.0
CALSCALE:GREGORIAN
BEGIN:VEVENT
UID:2052f98c114745a5fd94bda4c709f093
DTSTAMP:20260420T142336Z
SUMMARY:Combined Federation/Foundation Annual Meeting
DESCRIPTION:Jewish Long Beach\nCalendar\nhttps://jewishlongbeach.org/calend
 ar/combined-federationfoundation-annual-meeting\n\nCombined Federation/Fou
 ndation Annual Meeting
DTSTART;TZID=America/Los_Angeles:20180614T170000
DTEND;TZID=America/Los_Angeles:20180614T210000
END:VEVENT
END:VCALENDAR
