BEGIN:VCALENDAR
PRODID:-//eluceo/ical//2.0/EN
VERSION:2.0
CALSCALE:GREGORIAN
BEGIN:VEVENT
UID:5b542f82d7de1d2621c5cbd5d971a04f
DTSTAMP:20260420T044607Z
SUMMARY:Community Chanukah Celebration
DESCRIPTION:Jewish Long Beach\nCalendar\nhttps://jewishlongbeach.org/calend
 ar/community-chanukah-celebration\n\nKosher dinner\, Shabbat Services\, an
 d Live Concert by Saul Kaye\, Jewish Blues.\n\n$10 adults\; children under
  17yrs are free.
DTSTART;TZID=America/Los_Angeles:20191220T173000
DTEND;TZID=America/Los_Angeles:20191220T210000
END:VEVENT
END:VCALENDAR
