BEGIN:VCALENDAR
PRODID:-//eluceo/ical//2.0/EN
VERSION:2.0
CALSCALE:GREGORIAN
BEGIN:VEVENT
UID:ab10f7712d271b6dcbf8df2a9e859385
DTSTAMP:20260423T085509Z
SUMMARY:Community Environmental Faire
DESCRIPTION:Jewish Long Beach\nCalendar\nhttps://jewishlongbeach.org/calend
 ar/community-environmental-faire-1544661346\n\nAt Temple Israel Long Beach
 \, a community environment fair coordinated with the City of Long Beach an
 d Temple Israel's Social Action Committee
DTSTART;TZID=America/Los_Angeles:20190210T140000
DTEND;TZID=America/Los_Angeles:20190210T160000
END:VEVENT
END:VCALENDAR
