BEGIN:VCALENDAR
PRODID:-//eluceo/ical//2.0/EN
VERSION:2.0
CALSCALE:GREGORIAN
BEGIN:VEVENT
UID:4b02fea877a5b573eef42e2640aa0965
DTSTAMP:20260419T140834Z
SUMMARY:Belmont Heights Community Make a Difference Day TILB
DESCRIPTION:Jewish Long Beach\nCalendar\nhttps://jewishlongbeach.org/calend
 ar/community-make-a-difference-day-tilb\n\nPresented by Temple Israel Long
  Beach
DTSTART;TZID=America/Los_Angeles:20230430T110000
DTEND;TZID=America/Los_Angeles:20230430T130000
END:VEVENT
END:VCALENDAR
