BEGIN:VCALENDAR
PRODID:-//eluceo/ical//2.0/EN
VERSION:2.0
CALSCALE:GREGORIAN
BEGIN:VEVENT
UID:7f73cdf4d201a27d322bc9d3dc3fd8bf
DTSTAMP:20260423T013847Z
SUMMARY:CSULB Jewish Studies Program Speaker Series
DESCRIPTION:Jewish Long Beach\nCalendar\nhttps://jewishlongbeach.org/calend
 ar/csulb-jewish-studies-program-speaker-series-1724864611\n\nProf. Brian W
 ilson\, “America – An Epic Rhapsody to Democracy. An Exploration of Sw
 iss-Born\, Jewish-American Composer Ernest Bloch’s 1926 Tribute to the U
 nited States.”
DTSTART;TZID=America/Los_Angeles:20241028T190000
DTEND;TZID=America/Los_Angeles:20241028T203000
END:VEVENT
END:VCALENDAR
