BEGIN:VCALENDAR
PRODID:-//eluceo/ical//2.0/EN
VERSION:2.0
CALSCALE:GREGORIAN
BEGIN:VEVENT
UID:eb0e70d3fc7fa6febc9556d0e9d1416e
DTSTAMP:20260423T093632Z
SUMMARY:Drop-in Mah Jongg
DESCRIPTION:Jewish Long Beach\nCalendar\nhttps://jewishlongbeach.org/calend
 ar/drop-in-mah-jongg-weds\n\nMondays at 6 PM & Wednesdays at 1 PM | In-per
 son\n\nJoin experienced players in this fun and challenging game!\n\n$5/se
 ssion | Alpert JCC Members play free!\n\n \n\nCards are not provided. You
  may purchase a card at the following website https://www.nationalmahjongg
 league.org/store.aspx#\n\nContact Dana Schneider-Chanzit for more informat
 ion at dschneider@alpertjcc.org or (562) 426-7601 x1067
DTSTART;TZID=America/Los_Angeles:20251022T130000
DTEND;TZID=America/Los_Angeles:20251022T150000
END:VEVENT
END:VCALENDAR
