BEGIN:VCALENDAR
PRODID:-//eluceo/ical//2.0/EN
VERSION:2.0
CALSCALE:GREGORIAN
BEGIN:VEVENT
UID:4d2d5c93b7345d675a1f94de4ad1f7fd
DTSTAMP:20260419T215456Z
SUMMARY:Echoes of Resilience: Hebrew's Enduring Melody & Unbreakable Jewish
  Spirit
DESCRIPTION:Jewish Long Beach\nCalendar\nhttps://jewishlongbeach.org/calend
 ar/echoes-of-resilience\n\nMonday | March 4 | 7 PM | In-person | Free\n\n\
 nYoel and Orly Ganor\, founders of Ulpan-Or in Israel\, will be visiting t
 he US and sharing their experience in Israel since October 7th. They have 
 four children currently serving in the military. They will underscore the 
 deep connection between Hebrew learning\, the reinforcement of Jewish iden
 tity\, and the bond with the State of Israel\, especially in standing agai
 nst the rising tides of antisemitism globally. Furthermore\, they seek to 
 use this opp...
DTSTART;TZID=America/Los_Angeles:20240304T190000
DTEND;TZID=America/Los_Angeles:20240304T203000
END:VEVENT
END:VCALENDAR
