BEGIN:VCALENDAR
PRODID:-//eluceo/ical//2.0/EN
VERSION:2.0
CALSCALE:GREGORIAN
BEGIN:VEVENT
UID:0f36beef6a62b2e21f3aa42a13eb60f9
DTSTAMP:20260423T132304Z
SUMMARY:Family Havdalah Dinner and a Movie
DESCRIPTION:Jewish Long Beach\nCalendar\nhttps://jewishlongbeach.org/calend
 ar/family-havdalah-dinner-and-a-movie\n\nFamily Havdalah Dinner and a Movi
 e 5:30pm at the AJCC\nKosher Dinner $10 per family!  Two Films to choose 
 from American Tale and The Chosen.  This is the first of a series of 4 Fa
 mily Film events at the AJCC.  This program was made possible by a grant 
 from the Jewish Federation & Jewish Community Foundation of Greater Long B
 each.\n 
DTSTART;TZID=America/Los_Angeles:20190629T173000
DTEND;TZID=America/Los_Angeles:20190629T200000
END:VEVENT
END:VCALENDAR
