BEGIN:VCALENDAR
PRODID:-//eluceo/ical//2.0/EN
VERSION:2.0
CALSCALE:GREGORIAN
BEGIN:VEVENT
UID:6e33bb3ed63b34d9a4490a8995482881
DTSTAMP:20260423T113520Z
SUMMARY:Federation Board of Governors
DESCRIPTION:Jewish Long Beach\nCalendar\nhttps://jewishlongbeach.org/calend
 ar/federation-board-of-governors100\n\nFederation Board of Governors
DTSTART;TZID=America/Los_Angeles:20160919T190000
DTEND;TZID=America/Los_Angeles:20160919T210000
END:VEVENT
END:VCALENDAR
