BEGIN:VCALENDAR
PRODID:-//eluceo/ical//2.0/EN
VERSION:2.0
CALSCALE:GREGORIAN
BEGIN:VEVENT
UID:18cbf5d159f7ec473ec4325366d075f7
DTSTAMP:20260426T014858Z
SUMMARY:Federation Board of Governors
DESCRIPTION:Jewish Long Beach\nCalendar\nhttps://jewishlongbeach.org/calend
 ar/federation-board-of-governors105\n\nFederation Board of Governors
DTSTART;TZID=America/Los_Angeles:20170116T190000
DTEND;TZID=America/Los_Angeles:20170116T210000
END:VEVENT
END:VCALENDAR
