BEGIN:VCALENDAR
PRODID:-//eluceo/ical//2.0/EN
VERSION:2.0
CALSCALE:GREGORIAN
BEGIN:VEVENT
UID:f0178ab296e4ff8ea0af381eca61c5a6
DTSTAMP:20260423T075846Z
SUMMARY:Federation Board of Governors
DESCRIPTION:Jewish Long Beach\nCalendar\nhttps://jewishlongbeach.org/calend
 ar/federation-board-of-governors6\n\nFederation Board of Governors Meeting
DTSTART;TZID=America/Los_Angeles:20160516T190000
DTEND;TZID=America/Los_Angeles:20160516T203000
END:VEVENT
END:VCALENDAR
