BEGIN:VCALENDAR
PRODID:-//eluceo/ical//2.0/EN
VERSION:2.0
CALSCALE:GREGORIAN
BEGIN:VEVENT
UID:1a364a5d542600293a6e0f049990aea2
DTSTAMP:20260425T121010Z
SUMMARY:Federation Executive Council
DESCRIPTION:Jewish Long Beach\nCalendar\nhttps://jewishlongbeach.org/calend
 ar/federation-executive-council\n\nFederation Executive Council Meeting
DTSTART;TZID=America/Los_Angeles:20151019T190000
DTEND;TZID=America/Los_Angeles:20151019T203000
END:VEVENT
END:VCALENDAR
