BEGIN:VCALENDAR
PRODID:-//eluceo/ical//2.0/EN
VERSION:2.0
CALSCALE:GREGORIAN
BEGIN:VEVENT
UID:4b27dd26f50f0402536700cc55c83bf0
DTSTAMP:20260423T050450Z
SUMMARY:Federation Executive Council
DESCRIPTION:Jewish Long Beach\nCalendar\nhttps://jewishlongbeach.org/calend
 ar/federation-executive-council-four\n\nFederation Executive Council
DTSTART;TZID=America/Los_Angeles:20171218T190000
DTEND;TZID=America/Los_Angeles:20171218T210000
END:VEVENT
END:VCALENDAR
