BEGIN:VCALENDAR
PRODID:-//eluceo/ical//2.0/EN
VERSION:2.0
CALSCALE:GREGORIAN
BEGIN:VEVENT
UID:285b390c32b5eb502284eb5a33c252a1
DTSTAMP:20260424T074840Z
SUMMARY:Federation Executive Council Retreat
DESCRIPTION:Jewish Long Beach\nCalendar\nhttps://jewishlongbeach.org/calend
 ar/federation-executive-council-retreat\n\nFederation Executive Council Re
 treat
DTSTART;TZID=America/Los_Angeles:20150817T183000
DTEND;TZID=America/Los_Angeles:20150817T203000
END:VEVENT
END:VCALENDAR
