BEGIN:VCALENDAR
PRODID:-//eluceo/ical//2.0/EN
VERSION:2.0
CALSCALE:GREGORIAN
BEGIN:VEVENT
UID:d5cdd25ed803282538d96ad48be476dd
DTSTAMP:20260420T134108Z
SUMMARY:Federation Executive Council
DESCRIPTION:Jewish Long Beach\nCalendar\nhttps://jewishlongbeach.org/calend
 ar/federation-executive-council-six\n\nFederation Executive Council
DTSTART;TZID=America/Los_Angeles:20180416T190000
DTEND;TZID=America/Los_Angeles:20180416T210000
END:VEVENT
END:VCALENDAR
