BEGIN:VCALENDAR
PRODID:-//eluceo/ical//2.0/EN
VERSION:2.0
CALSCALE:GREGORIAN
BEGIN:VEVENT
UID:f9c0a318134bc879327270c8b0144d08
DTSTAMP:20260422T073711Z
SUMMARY:Federation Finance
DESCRIPTION:Jewish Long Beach\nCalendar\nhttps://jewishlongbeach.org/calend
 ar/federation-finance-six\n\nFederation Finance
DTSTART;TZID=America/Los_Angeles:20180510T080000
DTEND;TZID=America/Los_Angeles:20180510T100000
END:VEVENT
END:VCALENDAR
