BEGIN:VCALENDAR
PRODID:-//eluceo/ical//2.0/EN
VERSION:2.0
CALSCALE:GREGORIAN
BEGIN:VEVENT
UID:a5e38f1295873d414ec640ac53870d80
DTSTAMP:20260420T064458Z
SUMMARY:Federation Major Gifts Event Alternate Date
DESCRIPTION:Jewish Long Beach\nCalendar\nhttps://jewishlongbeach.org/calend
 ar/federation-major-gifts-event-alternate-date\n\nFederation Major Gifts E
 vent Alternate Date
DTSTART;TZID=America/Los_Angeles:20151115T110000
DTEND;TZID=America/Los_Angeles:20151115T130000
END:VEVENT
END:VCALENDAR
