BEGIN:VCALENDAR
PRODID:-//eluceo/ical//2.0/EN
VERSION:2.0
CALSCALE:GREGORIAN
BEGIN:VEVENT
UID:eada2554b5fa5b241d7a0e64ec53bb3f
DTSTAMP:20260421T194311Z
SUMMARY:Federation Offices Closed in observance of Thanksgiving
DESCRIPTION:Jewish Long Beach\nCalendar\nhttps://jewishlongbeach.org/calend
 ar/federation-offices-close-in-observance-of-Thanksgiving\n\nFederation Of
 fices Closed
DTSTART;TZID=America/Los_Angeles:20181122T080000
DTEND;TZID=America/Los_Angeles:20181122T170000
END:VEVENT
END:VCALENDAR
