BEGIN:VCALENDAR
PRODID:-//eluceo/ical//2.0/EN
VERSION:2.0
CALSCALE:GREGORIAN
BEGIN:VEVENT
UID:5a6e31be0f997c64c5c8a6c4a85e538d
DTSTAMP:20260422T145438Z
SUMMARY:Federation Offices Closedin observance of Memorial
DESCRIPTION:Jewish Long Beach\nCalendar\nhttps://jewishlongbeach.org/calend
 ar/federation-offices-closed-in-observance-of-memorial-day\n\nFederation O
 ffices Closed
DTSTART;TZID=America/Los_Angeles:20190527T080000
DTEND;TZID=America/Los_Angeles:20190527T170000
END:VEVENT
END:VCALENDAR
