BEGIN:VCALENDAR
PRODID:-//eluceo/ical//2.0/EN
VERSION:2.0
CALSCALE:GREGORIAN
BEGIN:VEVENT
UID:8e06bb28f903a380d385415669e13979
DTSTAMP:20260424T123113Z
SUMMARY:Frederation  Offices Closed in observance of Rosh HaShanah II
DESCRIPTION:Jewish Long Beach\nCalendar\nhttps://jewishlongbeach.org/calend
 ar/federation-offices-closed-in-observance-of-rosh-hashanah-II\n\nFederati
 on Offices Closed in observance of Rosh HaShanah II
DTSTART;TZID=America/Los_Angeles:20180911T080000
DTEND;TZID=America/Los_Angeles:20180911T170000
END:VEVENT
END:VCALENDAR
