BEGIN:VCALENDAR
PRODID:-//eluceo/ical//2.0/EN
VERSION:2.0
CALSCALE:GREGORIAN
BEGIN:VEVENT
UID:2565c89d6193fc0b5beaee4cd68e1d99
DTSTAMP:20260421T223358Z
SUMMARY:Federation/Foundation Closed for Labor Day
DESCRIPTION:Jewish Long Beach\nCalendar\nhttps://jewishlongbeach.org/calend
 ar/federationfoundation-closed-for-labor-day\n\nFederation/Foundation clos
 ed in observance of Labor Day
DTSTART;TZID=America/Los_Angeles:20180903T080000
DTEND;TZID=America/Los_Angeles:20180903T170000
END:VEVENT
END:VCALENDAR
