BEGIN:VCALENDAR
PRODID:-//eluceo/ical//2.0/EN
VERSION:2.0
CALSCALE:GREGORIAN
BEGIN:VEVENT
UID:124ff53ec5d2ab8c9eee55dbe083a03d
DTSTAMP:20260424T162206Z
SUMMARY:Federation/Foundation Closed in observance of Sukkot II
DESCRIPTION:Jewish Long Beach\nCalendar\nhttps://jewishlongbeach.org/calend
 ar/federationfoundation-closed-in-observance-of-sukkot-ii\n\nFederation/Fo
 undation offices closed in observance of Sukkot II
DTSTART;TZID=America/Los_Angeles:20180925T080000
DTEND;TZID=America/Los_Angeles:20180925T170000
END:VEVENT
END:VCALENDAR
