BEGIN:VCALENDAR
PRODID:-//eluceo/ical//2.0/EN
VERSION:2.0
CALSCALE:GREGORIAN
BEGIN:VEVENT
UID:78ee40e2066b4f40b0f0b9ec3d8f81df
DTSTAMP:20260423T112738Z
SUMMARY:Federation/Foundation Closed in observance of Yom Kippur
DESCRIPTION:Jewish Long Beach\nCalendar\nhttps://jewishlongbeach.org/calend
 ar/federationfoundation-closed-in-observance-of-yom-kippur\n\nFederation/F
 oundation offices closed in observance of Yom Kippur
DTSTART;TZID=America/Los_Angeles:20180919T080000
DTEND;TZID=America/Los_Angeles:20180919T170000
END:VEVENT
END:VCALENDAR
