BEGIN:VCALENDAR
PRODID:-//eluceo/ical//2.0/EN
VERSION:2.0
CALSCALE:GREGORIAN
BEGIN:VEVENT
UID:c8d05fd7c7d7fbe1ac550636c324e646
DTSTAMP:20260421T082018Z
SUMMARY:Film Festival: Yaniv
DESCRIPTION:Jewish Long Beach\nCalendar\nhttps://jewishlongbeach.org/calend
 ar/film-festival-yaniv\n\nSunday • November 16 • 1 PM: Film\n\nFilm: 
 Yaniv \n\n2025 • Comedy/Drama • English\n\nAfter funding is cut for 
 the school musical\, a high school teacher resolves to earn it back by che
 ating at an underground card game run by the Hasidic Jewish community. (IM
 DB)\n\n \n\nTickets\n\nFestival Pass • $100 | $86 AJCC Members\n\nIncl
 udes all 6 films\, unlimited drinks and refreshments at all receptions\, d
 inner at the Family Film\, and skip-the-line VIP access to all films\n\nFa
 mily ...
DTSTART;TZID=America/Los_Angeles:20251116T130000
DTEND;TZID=America/Los_Angeles:20251116T150000
END:VEVENT
END:VCALENDAR
