BEGIN:VCALENDAR
PRODID:-//eluceo/ical//2.0/EN
VERSION:2.0
CALSCALE:GREGORIAN
BEGIN:VEVENT
UID:a058ddb096473d95edf25758d9497ea8
DTSTAMP:20260419T172719Z
SUMMARY:Finance Task Force
DESCRIPTION:Jewish Long Beach\nCalendar\nhttps://jewishlongbeach.org/calend
 ar/finance-task-force-2\n\nFinance Task Force
DTSTART;TZID=America/Los_Angeles:20181011T080000
DTEND;TZID=America/Los_Angeles:20181011T093000
END:VEVENT
END:VCALENDAR
